BEGIN:VCALENDAR
VERSION:2.0
PRODID:-//American, Patio &amp; Bar Restaurant St Paul - ECPv6.15.18//NONSGML v1.0//EN
CALSCALE:GREGORIAN
METHOD:PUBLISH
X-ORIGINAL-URL:https://www.stockyardstc.com
X-WR-CALDESC:Events for American, Patio &amp; Bar Restaurant St Paul
REFRESH-INTERVAL;VALUE=DURATION:PT1H
X-Robots-Tag:noindex
X-PUBLISHED-TTL:PT1H
BEGIN:VTIMEZONE
TZID:America/Chicago
BEGIN:DAYLIGHT
TZOFFSETFROM:-0600
TZOFFSETTO:-0500
TZNAME:CDT
DTSTART:20280312T080000
END:DAYLIGHT
BEGIN:STANDARD
TZOFFSETFROM:-0500
TZOFFSETTO:-0600
TZNAME:CST
DTSTART:20281105T070000
END:STANDARD
BEGIN:DAYLIGHT
TZOFFSETFROM:-0600
TZOFFSETTO:-0500
TZNAME:CDT
DTSTART:20290311T080000
END:DAYLIGHT
BEGIN:STANDARD
TZOFFSETFROM:-0500
TZOFFSETTO:-0600
TZNAME:CST
DTSTART:20291104T070000
END:STANDARD
BEGIN:DAYLIGHT
TZOFFSETFROM:-0600
TZOFFSETTO:-0500
TZNAME:CDT
DTSTART:20300310T080000
END:DAYLIGHT
BEGIN:STANDARD
TZOFFSETFROM:-0500
TZOFFSETTO:-0600
TZNAME:CST
DTSTART:20301103T070000
END:STANDARD
BEGIN:DAYLIGHT
TZOFFSETFROM:-0600
TZOFFSETTO:-0500
TZNAME:CDT
DTSTART:20310309T080000
END:DAYLIGHT
BEGIN:STANDARD
TZOFFSETFROM:-0500
TZOFFSETTO:-0600
TZNAME:CST
DTSTART:20311102T070000
END:STANDARD
END:VTIMEZONE
BEGIN:VEVENT
DTSTART;TZID=America/Chicago:20291112T160000
DTEND;TZID=America/Chicago:20291112T200000
DTSTAMP:20260422T124931
CREATED:20260205T155649Z
LAST-MODIFIED:20260205T155651Z
UID:10003049-1889193600-1889208000@www.stockyardstc.com
SUMMARY:Burger & Beer Night
DESCRIPTION:Enjoy a Tavern Cheeseburger made your way\, fries or tots\, and a crisp\, cold draft beer\, all for $15!
URL:https://www.stockyardstc.com/event-calendar/monday-burger-beer-night/2029-11-12/
END:VEVENT
BEGIN:VEVENT
DTSTART;TZID=America/Chicago:20291119T160000
DTEND;TZID=America/Chicago:20291119T200000
DTSTAMP:20260422T124931
CREATED:20260205T155649Z
LAST-MODIFIED:20260205T155651Z
UID:10003050-1889798400-1889812800@www.stockyardstc.com
SUMMARY:Burger & Beer Night
DESCRIPTION:Enjoy a Tavern Cheeseburger made your way\, fries or tots\, and a crisp\, cold draft beer\, all for $15!
URL:https://www.stockyardstc.com/event-calendar/monday-burger-beer-night/2029-11-19/
END:VEVENT
BEGIN:VEVENT
DTSTART;TZID=America/Chicago:20291126T160000
DTEND;TZID=America/Chicago:20291126T200000
DTSTAMP:20260422T124931
CREATED:20260205T155649Z
LAST-MODIFIED:20260205T155651Z
UID:10003051-1890403200-1890417600@www.stockyardstc.com
SUMMARY:Burger & Beer Night
DESCRIPTION:Enjoy a Tavern Cheeseburger made your way\, fries or tots\, and a crisp\, cold draft beer\, all for $15!
URL:https://www.stockyardstc.com/event-calendar/monday-burger-beer-night/2029-11-26/
END:VEVENT
BEGIN:VEVENT
DTSTART;TZID=America/Chicago:20291203T160000
DTEND;TZID=America/Chicago:20291203T200000
DTSTAMP:20260422T124931
CREATED:20260205T155649Z
LAST-MODIFIED:20260205T155651Z
UID:10003052-1891008000-1891022400@www.stockyardstc.com
SUMMARY:Burger & Beer Night
DESCRIPTION:Enjoy a Tavern Cheeseburger made your way\, fries or tots\, and a crisp\, cold draft beer\, all for $15!
URL:https://www.stockyardstc.com/event-calendar/monday-burger-beer-night/2029-12-03/
END:VEVENT
BEGIN:VEVENT
DTSTART;TZID=America/Chicago:20291210T160000
DTEND;TZID=America/Chicago:20291210T200000
DTSTAMP:20260422T124931
CREATED:20260205T155649Z
LAST-MODIFIED:20260205T155651Z
UID:10003053-1891612800-1891627200@www.stockyardstc.com
SUMMARY:Burger & Beer Night
DESCRIPTION:Enjoy a Tavern Cheeseburger made your way\, fries or tots\, and a crisp\, cold draft beer\, all for $15!
URL:https://www.stockyardstc.com/event-calendar/monday-burger-beer-night/2029-12-10/
END:VEVENT
BEGIN:VEVENT
DTSTART;TZID=America/Chicago:20291217T160000
DTEND;TZID=America/Chicago:20291217T200000
DTSTAMP:20260422T124931
CREATED:20260205T155649Z
LAST-MODIFIED:20260205T155651Z
UID:10003054-1892217600-1892232000@www.stockyardstc.com
SUMMARY:Burger & Beer Night
DESCRIPTION:Enjoy a Tavern Cheeseburger made your way\, fries or tots\, and a crisp\, cold draft beer\, all for $15!
URL:https://www.stockyardstc.com/event-calendar/monday-burger-beer-night/2029-12-17/
END:VEVENT
BEGIN:VEVENT
DTSTART;TZID=America/Chicago:20291224T160000
DTEND;TZID=America/Chicago:20291224T200000
DTSTAMP:20260422T124931
CREATED:20260205T155649Z
LAST-MODIFIED:20260205T155651Z
UID:10003055-1892822400-1892836800@www.stockyardstc.com
SUMMARY:Burger & Beer Night
DESCRIPTION:Enjoy a Tavern Cheeseburger made your way\, fries or tots\, and a crisp\, cold draft beer\, all for $15!
URL:https://www.stockyardstc.com/event-calendar/monday-burger-beer-night/2029-12-24/
END:VEVENT
BEGIN:VEVENT
DTSTART;TZID=America/Chicago:20291231T160000
DTEND;TZID=America/Chicago:20291231T200000
DTSTAMP:20260422T124931
CREATED:20260205T155649Z
LAST-MODIFIED:20260205T155651Z
UID:10003056-1893427200-1893441600@www.stockyardstc.com
SUMMARY:Burger & Beer Night
DESCRIPTION:Enjoy a Tavern Cheeseburger made your way\, fries or tots\, and a crisp\, cold draft beer\, all for $15!
URL:https://www.stockyardstc.com/event-calendar/monday-burger-beer-night/2029-12-31/
END:VEVENT
BEGIN:VEVENT
DTSTART;TZID=America/Chicago:20300107T160000
DTEND;TZID=America/Chicago:20300107T200000
DTSTAMP:20260422T124931
CREATED:20260205T155649Z
LAST-MODIFIED:20260205T155651Z
UID:10003057-1894032000-1894046400@www.stockyardstc.com
SUMMARY:Burger & Beer Night
DESCRIPTION:Enjoy a Tavern Cheeseburger made your way\, fries or tots\, and a crisp\, cold draft beer\, all for $15!
URL:https://www.stockyardstc.com/event-calendar/monday-burger-beer-night/2030-01-07/
END:VEVENT
BEGIN:VEVENT
DTSTART;TZID=America/Chicago:20300114T160000
DTEND;TZID=America/Chicago:20300114T200000
DTSTAMP:20260422T124931
CREATED:20260205T155649Z
LAST-MODIFIED:20260205T155651Z
UID:10003058-1894636800-1894651200@www.stockyardstc.com
SUMMARY:Burger & Beer Night
DESCRIPTION:Enjoy a Tavern Cheeseburger made your way\, fries or tots\, and a crisp\, cold draft beer\, all for $15!
URL:https://www.stockyardstc.com/event-calendar/monday-burger-beer-night/2030-01-14/
END:VEVENT
BEGIN:VEVENT
DTSTART;TZID=America/Chicago:20300121T160000
DTEND;TZID=America/Chicago:20300121T200000
DTSTAMP:20260422T124931
CREATED:20260205T155649Z
LAST-MODIFIED:20260205T155651Z
UID:10003059-1895241600-1895256000@www.stockyardstc.com
SUMMARY:Burger & Beer Night
DESCRIPTION:Enjoy a Tavern Cheeseburger made your way\, fries or tots\, and a crisp\, cold draft beer\, all for $15!
URL:https://www.stockyardstc.com/event-calendar/monday-burger-beer-night/2030-01-21/
END:VEVENT
BEGIN:VEVENT
DTSTART;TZID=America/Chicago:20300128T160000
DTEND;TZID=America/Chicago:20300128T200000
DTSTAMP:20260422T124931
CREATED:20260205T155649Z
LAST-MODIFIED:20260205T155651Z
UID:10003060-1895846400-1895860800@www.stockyardstc.com
SUMMARY:Burger & Beer Night
DESCRIPTION:Enjoy a Tavern Cheeseburger made your way\, fries or tots\, and a crisp\, cold draft beer\, all for $15!
URL:https://www.stockyardstc.com/event-calendar/monday-burger-beer-night/2030-01-28/
END:VEVENT
BEGIN:VEVENT
DTSTART;TZID=America/Chicago:20300204T160000
DTEND;TZID=America/Chicago:20300204T200000
DTSTAMP:20260422T124931
CREATED:20260205T155649Z
LAST-MODIFIED:20260205T155651Z
UID:10003061-1896451200-1896465600@www.stockyardstc.com
SUMMARY:Burger & Beer Night
DESCRIPTION:Enjoy a Tavern Cheeseburger made your way\, fries or tots\, and a crisp\, cold draft beer\, all for $15!
URL:https://www.stockyardstc.com/event-calendar/monday-burger-beer-night/2030-02-04/
END:VEVENT
BEGIN:VEVENT
DTSTART;TZID=America/Chicago:20300211T160000
DTEND;TZID=America/Chicago:20300211T200000
DTSTAMP:20260422T124931
CREATED:20260205T155649Z
LAST-MODIFIED:20260205T155651Z
UID:10003062-1897056000-1897070400@www.stockyardstc.com
SUMMARY:Burger & Beer Night
DESCRIPTION:Enjoy a Tavern Cheeseburger made your way\, fries or tots\, and a crisp\, cold draft beer\, all for $15!
URL:https://www.stockyardstc.com/event-calendar/monday-burger-beer-night/2030-02-11/
END:VEVENT
BEGIN:VEVENT
DTSTART;TZID=America/Chicago:20300218T160000
DTEND;TZID=America/Chicago:20300218T200000
DTSTAMP:20260422T124931
CREATED:20260205T155649Z
LAST-MODIFIED:20260205T155651Z
UID:10003063-1897660800-1897675200@www.stockyardstc.com
SUMMARY:Burger & Beer Night
DESCRIPTION:Enjoy a Tavern Cheeseburger made your way\, fries or tots\, and a crisp\, cold draft beer\, all for $15!
URL:https://www.stockyardstc.com/event-calendar/monday-burger-beer-night/2030-02-18/
END:VEVENT
BEGIN:VEVENT
DTSTART;TZID=America/Chicago:20300225T160000
DTEND;TZID=America/Chicago:20300225T200000
DTSTAMP:20260422T124931
CREATED:20260205T155649Z
LAST-MODIFIED:20260205T155651Z
UID:10003064-1898265600-1898280000@www.stockyardstc.com
SUMMARY:Burger & Beer Night
DESCRIPTION:Enjoy a Tavern Cheeseburger made your way\, fries or tots\, and a crisp\, cold draft beer\, all for $15!
URL:https://www.stockyardstc.com/event-calendar/monday-burger-beer-night/2030-02-25/
END:VEVENT
BEGIN:VEVENT
DTSTART;TZID=America/Chicago:20300304T160000
DTEND;TZID=America/Chicago:20300304T200000
DTSTAMP:20260422T124931
CREATED:20260205T155649Z
LAST-MODIFIED:20260205T155651Z
UID:10003065-1898870400-1898884800@www.stockyardstc.com
SUMMARY:Burger & Beer Night
DESCRIPTION:Enjoy a Tavern Cheeseburger made your way\, fries or tots\, and a crisp\, cold draft beer\, all for $15!
URL:https://www.stockyardstc.com/event-calendar/monday-burger-beer-night/2030-03-04/
END:VEVENT
BEGIN:VEVENT
DTSTART;TZID=America/Chicago:20300311T160000
DTEND;TZID=America/Chicago:20300311T200000
DTSTAMP:20260422T124931
CREATED:20260205T155649Z
LAST-MODIFIED:20260205T155651Z
UID:10003066-1899475200-1899489600@www.stockyardstc.com
SUMMARY:Burger & Beer Night
DESCRIPTION:Enjoy a Tavern Cheeseburger made your way\, fries or tots\, and a crisp\, cold draft beer\, all for $15!
URL:https://www.stockyardstc.com/event-calendar/monday-burger-beer-night/2030-03-11/
END:VEVENT
BEGIN:VEVENT
DTSTART;TZID=America/Chicago:20300318T160000
DTEND;TZID=America/Chicago:20300318T200000
DTSTAMP:20260422T124931
CREATED:20260205T155649Z
LAST-MODIFIED:20260205T155651Z
UID:10003067-1900080000-1900094400@www.stockyardstc.com
SUMMARY:Burger & Beer Night
DESCRIPTION:Enjoy a Tavern Cheeseburger made your way\, fries or tots\, and a crisp\, cold draft beer\, all for $15!
URL:https://www.stockyardstc.com/event-calendar/monday-burger-beer-night/2030-03-18/
END:VEVENT
BEGIN:VEVENT
DTSTART;TZID=America/Chicago:20300325T160000
DTEND;TZID=America/Chicago:20300325T200000
DTSTAMP:20260422T124931
CREATED:20260205T155649Z
LAST-MODIFIED:20260205T155651Z
UID:10003068-1900684800-1900699200@www.stockyardstc.com
SUMMARY:Burger & Beer Night
DESCRIPTION:Enjoy a Tavern Cheeseburger made your way\, fries or tots\, and a crisp\, cold draft beer\, all for $15!
URL:https://www.stockyardstc.com/event-calendar/monday-burger-beer-night/2030-03-25/
END:VEVENT
BEGIN:VEVENT
DTSTART;TZID=America/Chicago:20300401T160000
DTEND;TZID=America/Chicago:20300401T200000
DTSTAMP:20260422T124931
CREATED:20260205T155649Z
LAST-MODIFIED:20260205T155651Z
UID:10003069-1901289600-1901304000@www.stockyardstc.com
SUMMARY:Burger & Beer Night
DESCRIPTION:Enjoy a Tavern Cheeseburger made your way\, fries or tots\, and a crisp\, cold draft beer\, all for $15!
URL:https://www.stockyardstc.com/event-calendar/monday-burger-beer-night/2030-04-01/
END:VEVENT
BEGIN:VEVENT
DTSTART;TZID=America/Chicago:20300408T160000
DTEND;TZID=America/Chicago:20300408T200000
DTSTAMP:20260422T124931
CREATED:20260205T155649Z
LAST-MODIFIED:20260205T155651Z
UID:10003070-1901894400-1901908800@www.stockyardstc.com
SUMMARY:Burger & Beer Night
DESCRIPTION:Enjoy a Tavern Cheeseburger made your way\, fries or tots\, and a crisp\, cold draft beer\, all for $15!
URL:https://www.stockyardstc.com/event-calendar/monday-burger-beer-night/2030-04-08/
END:VEVENT
BEGIN:VEVENT
DTSTART;TZID=America/Chicago:20300415T160000
DTEND;TZID=America/Chicago:20300415T200000
DTSTAMP:20260422T124931
CREATED:20260205T155649Z
LAST-MODIFIED:20260205T155651Z
UID:10003071-1902499200-1902513600@www.stockyardstc.com
SUMMARY:Burger & Beer Night
DESCRIPTION:Enjoy a Tavern Cheeseburger made your way\, fries or tots\, and a crisp\, cold draft beer\, all for $15!
URL:https://www.stockyardstc.com/event-calendar/monday-burger-beer-night/2030-04-15/
END:VEVENT
BEGIN:VEVENT
DTSTART;TZID=America/Chicago:20300422T160000
DTEND;TZID=America/Chicago:20300422T200000
DTSTAMP:20260422T124931
CREATED:20260205T155649Z
LAST-MODIFIED:20260205T155651Z
UID:10003072-1903104000-1903118400@www.stockyardstc.com
SUMMARY:Burger & Beer Night
DESCRIPTION:Enjoy a Tavern Cheeseburger made your way\, fries or tots\, and a crisp\, cold draft beer\, all for $15!
URL:https://www.stockyardstc.com/event-calendar/monday-burger-beer-night/2030-04-22/
END:VEVENT
BEGIN:VEVENT
DTSTART;TZID=America/Chicago:20300429T160000
DTEND;TZID=America/Chicago:20300429T200000
DTSTAMP:20260422T124931
CREATED:20260205T155649Z
LAST-MODIFIED:20260205T155651Z
UID:10003073-1903708800-1903723200@www.stockyardstc.com
SUMMARY:Burger & Beer Night
DESCRIPTION:Enjoy a Tavern Cheeseburger made your way\, fries or tots\, and a crisp\, cold draft beer\, all for $15!
URL:https://www.stockyardstc.com/event-calendar/monday-burger-beer-night/2030-04-29/
END:VEVENT
BEGIN:VEVENT
DTSTART;TZID=America/Chicago:20300506T160000
DTEND;TZID=America/Chicago:20300506T200000
DTSTAMP:20260422T124931
CREATED:20260205T155649Z
LAST-MODIFIED:20260205T155651Z
UID:10003074-1904313600-1904328000@www.stockyardstc.com
SUMMARY:Burger & Beer Night
DESCRIPTION:Enjoy a Tavern Cheeseburger made your way\, fries or tots\, and a crisp\, cold draft beer\, all for $15!
URL:https://www.stockyardstc.com/event-calendar/monday-burger-beer-night/2030-05-06/
END:VEVENT
BEGIN:VEVENT
DTSTART;TZID=America/Chicago:20300513T160000
DTEND;TZID=America/Chicago:20300513T200000
DTSTAMP:20260422T124931
CREATED:20260205T155649Z
LAST-MODIFIED:20260205T155651Z
UID:10003075-1904918400-1904932800@www.stockyardstc.com
SUMMARY:Burger & Beer Night
DESCRIPTION:Enjoy a Tavern Cheeseburger made your way\, fries or tots\, and a crisp\, cold draft beer\, all for $15!
URL:https://www.stockyardstc.com/event-calendar/monday-burger-beer-night/2030-05-13/
END:VEVENT
BEGIN:VEVENT
DTSTART;TZID=America/Chicago:20300520T160000
DTEND;TZID=America/Chicago:20300520T200000
DTSTAMP:20260422T124931
CREATED:20260205T155649Z
LAST-MODIFIED:20260205T155651Z
UID:10003076-1905523200-1905537600@www.stockyardstc.com
SUMMARY:Burger & Beer Night
DESCRIPTION:Enjoy a Tavern Cheeseburger made your way\, fries or tots\, and a crisp\, cold draft beer\, all for $15!
URL:https://www.stockyardstc.com/event-calendar/monday-burger-beer-night/2030-05-20/
END:VEVENT
BEGIN:VEVENT
DTSTART;TZID=America/Chicago:20300527T160000
DTEND;TZID=America/Chicago:20300527T200000
DTSTAMP:20260422T124931
CREATED:20260205T155649Z
LAST-MODIFIED:20260205T155651Z
UID:10003077-1906128000-1906142400@www.stockyardstc.com
SUMMARY:Burger & Beer Night
DESCRIPTION:Enjoy a Tavern Cheeseburger made your way\, fries or tots\, and a crisp\, cold draft beer\, all for $15!
URL:https://www.stockyardstc.com/event-calendar/monday-burger-beer-night/2030-05-27/
END:VEVENT
BEGIN:VEVENT
DTSTART;TZID=America/Chicago:20300603T160000
DTEND;TZID=America/Chicago:20300603T200000
DTSTAMP:20260422T124931
CREATED:20260205T155649Z
LAST-MODIFIED:20260205T155651Z
UID:10003078-1906732800-1906747200@www.stockyardstc.com
SUMMARY:Burger & Beer Night
DESCRIPTION:Enjoy a Tavern Cheeseburger made your way\, fries or tots\, and a crisp\, cold draft beer\, all for $15!
URL:https://www.stockyardstc.com/event-calendar/monday-burger-beer-night/2030-06-03/
END:VEVENT
END:VCALENDAR