BEGIN:VCALENDAR
VERSION:2.0
PRODID:-//American, Patio &amp; Bar Restaurant St Paul - ECPv6.15.18//NONSGML v1.0//EN
CALSCALE:GREGORIAN
METHOD:PUBLISH
X-WR-CALNAME:American, Patio &amp; Bar Restaurant St Paul
X-ORIGINAL-URL:https://www.stockyardstc.com
X-WR-CALDESC:Events for American, Patio &amp; Bar Restaurant St Paul
REFRESH-INTERVAL;VALUE=DURATION:PT1H
X-Robots-Tag:noindex
X-PUBLISHED-TTL:PT1H
BEGIN:VTIMEZONE
TZID:America/Chicago
BEGIN:DAYLIGHT
TZOFFSETFROM:-0600
TZOFFSETTO:-0500
TZNAME:CDT
DTSTART:20280312T080000
END:DAYLIGHT
BEGIN:STANDARD
TZOFFSETFROM:-0500
TZOFFSETTO:-0600
TZNAME:CST
DTSTART:20281105T070000
END:STANDARD
BEGIN:DAYLIGHT
TZOFFSETFROM:-0600
TZOFFSETTO:-0500
TZNAME:CDT
DTSTART:20290311T080000
END:DAYLIGHT
BEGIN:STANDARD
TZOFFSETFROM:-0500
TZOFFSETTO:-0600
TZNAME:CST
DTSTART:20291104T070000
END:STANDARD
BEGIN:DAYLIGHT
TZOFFSETFROM:-0600
TZOFFSETTO:-0500
TZNAME:CDT
DTSTART:20300310T080000
END:DAYLIGHT
BEGIN:STANDARD
TZOFFSETFROM:-0500
TZOFFSETTO:-0600
TZNAME:CST
DTSTART:20301103T070000
END:STANDARD
END:VTIMEZONE
BEGIN:VEVENT
DTSTART;TZID=America/Chicago:20290305T160000
DTEND;TZID=America/Chicago:20290305T200000
DTSTAMP:20260422T075710
CREATED:20260205T155649Z
LAST-MODIFIED:20260205T155651Z
UID:10003013-1867420800-1867435200@www.stockyardstc.com
SUMMARY:Burger & Beer Night
DESCRIPTION:Enjoy a Tavern Cheeseburger made your way\, fries or tots\, and a crisp\, cold draft beer\, all for $15!
URL:https://www.stockyardstc.com/event-calendar/monday-burger-beer-night/2029-03-05/
END:VEVENT
BEGIN:VEVENT
DTSTART;TZID=America/Chicago:20290312T160000
DTEND;TZID=America/Chicago:20290312T200000
DTSTAMP:20260422T075710
CREATED:20260205T155649Z
LAST-MODIFIED:20260205T155651Z
UID:10003014-1868025600-1868040000@www.stockyardstc.com
SUMMARY:Burger & Beer Night
DESCRIPTION:Enjoy a Tavern Cheeseburger made your way\, fries or tots\, and a crisp\, cold draft beer\, all for $15!
URL:https://www.stockyardstc.com/event-calendar/monday-burger-beer-night/2029-03-12/
END:VEVENT
BEGIN:VEVENT
DTSTART;TZID=America/Chicago:20290319T160000
DTEND;TZID=America/Chicago:20290319T200000
DTSTAMP:20260422T075710
CREATED:20260205T155649Z
LAST-MODIFIED:20260205T155651Z
UID:10003015-1868630400-1868644800@www.stockyardstc.com
SUMMARY:Burger & Beer Night
DESCRIPTION:Enjoy a Tavern Cheeseburger made your way\, fries or tots\, and a crisp\, cold draft beer\, all for $15!
URL:https://www.stockyardstc.com/event-calendar/monday-burger-beer-night/2029-03-19/
END:VEVENT
BEGIN:VEVENT
DTSTART;TZID=America/Chicago:20290326T160000
DTEND;TZID=America/Chicago:20290326T200000
DTSTAMP:20260422T075710
CREATED:20260205T155649Z
LAST-MODIFIED:20260205T155651Z
UID:10003016-1869235200-1869249600@www.stockyardstc.com
SUMMARY:Burger & Beer Night
DESCRIPTION:Enjoy a Tavern Cheeseburger made your way\, fries or tots\, and a crisp\, cold draft beer\, all for $15!
URL:https://www.stockyardstc.com/event-calendar/monday-burger-beer-night/2029-03-26/
END:VEVENT
BEGIN:VEVENT
DTSTART;TZID=America/Chicago:20290402T160000
DTEND;TZID=America/Chicago:20290402T200000
DTSTAMP:20260422T075710
CREATED:20260205T155649Z
LAST-MODIFIED:20260205T155651Z
UID:10003017-1869840000-1869854400@www.stockyardstc.com
SUMMARY:Burger & Beer Night
DESCRIPTION:Enjoy a Tavern Cheeseburger made your way\, fries or tots\, and a crisp\, cold draft beer\, all for $15!
URL:https://www.stockyardstc.com/event-calendar/monday-burger-beer-night/2029-04-02/
END:VEVENT
BEGIN:VEVENT
DTSTART;TZID=America/Chicago:20290409T160000
DTEND;TZID=America/Chicago:20290409T200000
DTSTAMP:20260422T075710
CREATED:20260205T155649Z
LAST-MODIFIED:20260205T155651Z
UID:10003018-1870444800-1870459200@www.stockyardstc.com
SUMMARY:Burger & Beer Night
DESCRIPTION:Enjoy a Tavern Cheeseburger made your way\, fries or tots\, and a crisp\, cold draft beer\, all for $15!
URL:https://www.stockyardstc.com/event-calendar/monday-burger-beer-night/2029-04-09/
END:VEVENT
BEGIN:VEVENT
DTSTART;TZID=America/Chicago:20290416T160000
DTEND;TZID=America/Chicago:20290416T200000
DTSTAMP:20260422T075710
CREATED:20260205T155649Z
LAST-MODIFIED:20260205T155651Z
UID:10003019-1871049600-1871064000@www.stockyardstc.com
SUMMARY:Burger & Beer Night
DESCRIPTION:Enjoy a Tavern Cheeseburger made your way\, fries or tots\, and a crisp\, cold draft beer\, all for $15!
URL:https://www.stockyardstc.com/event-calendar/monday-burger-beer-night/2029-04-16/
END:VEVENT
BEGIN:VEVENT
DTSTART;TZID=America/Chicago:20290423T160000
DTEND;TZID=America/Chicago:20290423T200000
DTSTAMP:20260422T075710
CREATED:20260205T155649Z
LAST-MODIFIED:20260205T155651Z
UID:10003020-1871654400-1871668800@www.stockyardstc.com
SUMMARY:Burger & Beer Night
DESCRIPTION:Enjoy a Tavern Cheeseburger made your way\, fries or tots\, and a crisp\, cold draft beer\, all for $15!
URL:https://www.stockyardstc.com/event-calendar/monday-burger-beer-night/2029-04-23/
END:VEVENT
BEGIN:VEVENT
DTSTART;TZID=America/Chicago:20290430T160000
DTEND;TZID=America/Chicago:20290430T200000
DTSTAMP:20260422T075710
CREATED:20260205T155649Z
LAST-MODIFIED:20260205T155651Z
UID:10003021-1872259200-1872273600@www.stockyardstc.com
SUMMARY:Burger & Beer Night
DESCRIPTION:Enjoy a Tavern Cheeseburger made your way\, fries or tots\, and a crisp\, cold draft beer\, all for $15!
URL:https://www.stockyardstc.com/event-calendar/monday-burger-beer-night/2029-04-30/
END:VEVENT
BEGIN:VEVENT
DTSTART;TZID=America/Chicago:20290507T160000
DTEND;TZID=America/Chicago:20290507T200000
DTSTAMP:20260422T075710
CREATED:20260205T155649Z
LAST-MODIFIED:20260205T155651Z
UID:10003022-1872864000-1872878400@www.stockyardstc.com
SUMMARY:Burger & Beer Night
DESCRIPTION:Enjoy a Tavern Cheeseburger made your way\, fries or tots\, and a crisp\, cold draft beer\, all for $15!
URL:https://www.stockyardstc.com/event-calendar/monday-burger-beer-night/2029-05-07/
END:VEVENT
BEGIN:VEVENT
DTSTART;TZID=America/Chicago:20290514T160000
DTEND;TZID=America/Chicago:20290514T200000
DTSTAMP:20260422T075710
CREATED:20260205T155649Z
LAST-MODIFIED:20260205T155651Z
UID:10003023-1873468800-1873483200@www.stockyardstc.com
SUMMARY:Burger & Beer Night
DESCRIPTION:Enjoy a Tavern Cheeseburger made your way\, fries or tots\, and a crisp\, cold draft beer\, all for $15!
URL:https://www.stockyardstc.com/event-calendar/monday-burger-beer-night/2029-05-14/
END:VEVENT
BEGIN:VEVENT
DTSTART;TZID=America/Chicago:20290521T160000
DTEND;TZID=America/Chicago:20290521T200000
DTSTAMP:20260422T075710
CREATED:20260205T155649Z
LAST-MODIFIED:20260205T155651Z
UID:10003024-1874073600-1874088000@www.stockyardstc.com
SUMMARY:Burger & Beer Night
DESCRIPTION:Enjoy a Tavern Cheeseburger made your way\, fries or tots\, and a crisp\, cold draft beer\, all for $15!
URL:https://www.stockyardstc.com/event-calendar/monday-burger-beer-night/2029-05-21/
END:VEVENT
BEGIN:VEVENT
DTSTART;TZID=America/Chicago:20290528T160000
DTEND;TZID=America/Chicago:20290528T200000
DTSTAMP:20260422T075710
CREATED:20260205T155649Z
LAST-MODIFIED:20260205T155651Z
UID:10003025-1874678400-1874692800@www.stockyardstc.com
SUMMARY:Burger & Beer Night
DESCRIPTION:Enjoy a Tavern Cheeseburger made your way\, fries or tots\, and a crisp\, cold draft beer\, all for $15!
URL:https://www.stockyardstc.com/event-calendar/monday-burger-beer-night/2029-05-28/
END:VEVENT
BEGIN:VEVENT
DTSTART;TZID=America/Chicago:20290604T160000
DTEND;TZID=America/Chicago:20290604T200000
DTSTAMP:20260422T075710
CREATED:20260205T155649Z
LAST-MODIFIED:20260205T155651Z
UID:10003026-1875283200-1875297600@www.stockyardstc.com
SUMMARY:Burger & Beer Night
DESCRIPTION:Enjoy a Tavern Cheeseburger made your way\, fries or tots\, and a crisp\, cold draft beer\, all for $15!
URL:https://www.stockyardstc.com/event-calendar/monday-burger-beer-night/2029-06-04/
END:VEVENT
BEGIN:VEVENT
DTSTART;TZID=America/Chicago:20290611T160000
DTEND;TZID=America/Chicago:20290611T200000
DTSTAMP:20260422T075710
CREATED:20260205T155649Z
LAST-MODIFIED:20260205T155651Z
UID:10003027-1875888000-1875902400@www.stockyardstc.com
SUMMARY:Burger & Beer Night
DESCRIPTION:Enjoy a Tavern Cheeseburger made your way\, fries or tots\, and a crisp\, cold draft beer\, all for $15!
URL:https://www.stockyardstc.com/event-calendar/monday-burger-beer-night/2029-06-11/
END:VEVENT
BEGIN:VEVENT
DTSTART;TZID=America/Chicago:20290618T160000
DTEND;TZID=America/Chicago:20290618T200000
DTSTAMP:20260422T075710
CREATED:20260205T155649Z
LAST-MODIFIED:20260205T155651Z
UID:10003028-1876492800-1876507200@www.stockyardstc.com
SUMMARY:Burger & Beer Night
DESCRIPTION:Enjoy a Tavern Cheeseburger made your way\, fries or tots\, and a crisp\, cold draft beer\, all for $15!
URL:https://www.stockyardstc.com/event-calendar/monday-burger-beer-night/2029-06-18/
END:VEVENT
BEGIN:VEVENT
DTSTART;TZID=America/Chicago:20290625T160000
DTEND;TZID=America/Chicago:20290625T200000
DTSTAMP:20260422T075710
CREATED:20260205T155649Z
LAST-MODIFIED:20260205T155651Z
UID:10003029-1877097600-1877112000@www.stockyardstc.com
SUMMARY:Burger & Beer Night
DESCRIPTION:Enjoy a Tavern Cheeseburger made your way\, fries or tots\, and a crisp\, cold draft beer\, all for $15!
URL:https://www.stockyardstc.com/event-calendar/monday-burger-beer-night/2029-06-25/
END:VEVENT
BEGIN:VEVENT
DTSTART;TZID=America/Chicago:20290702T160000
DTEND;TZID=America/Chicago:20290702T200000
DTSTAMP:20260422T075710
CREATED:20260205T155649Z
LAST-MODIFIED:20260205T155651Z
UID:10003030-1877702400-1877716800@www.stockyardstc.com
SUMMARY:Burger & Beer Night
DESCRIPTION:Enjoy a Tavern Cheeseburger made your way\, fries or tots\, and a crisp\, cold draft beer\, all for $15!
URL:https://www.stockyardstc.com/event-calendar/monday-burger-beer-night/2029-07-02/
END:VEVENT
BEGIN:VEVENT
DTSTART;TZID=America/Chicago:20290709T160000
DTEND;TZID=America/Chicago:20290709T200000
DTSTAMP:20260422T075710
CREATED:20260205T155649Z
LAST-MODIFIED:20260205T155651Z
UID:10003031-1878307200-1878321600@www.stockyardstc.com
SUMMARY:Burger & Beer Night
DESCRIPTION:Enjoy a Tavern Cheeseburger made your way\, fries or tots\, and a crisp\, cold draft beer\, all for $15!
URL:https://www.stockyardstc.com/event-calendar/monday-burger-beer-night/2029-07-09/
END:VEVENT
BEGIN:VEVENT
DTSTART;TZID=America/Chicago:20290716T160000
DTEND;TZID=America/Chicago:20290716T200000
DTSTAMP:20260422T075710
CREATED:20260205T155649Z
LAST-MODIFIED:20260205T155651Z
UID:10003032-1878912000-1878926400@www.stockyardstc.com
SUMMARY:Burger & Beer Night
DESCRIPTION:Enjoy a Tavern Cheeseburger made your way\, fries or tots\, and a crisp\, cold draft beer\, all for $15!
URL:https://www.stockyardstc.com/event-calendar/monday-burger-beer-night/2029-07-16/
END:VEVENT
BEGIN:VEVENT
DTSTART;TZID=America/Chicago:20290723T160000
DTEND;TZID=America/Chicago:20290723T200000
DTSTAMP:20260422T075710
CREATED:20260205T155649Z
LAST-MODIFIED:20260205T155651Z
UID:10003033-1879516800-1879531200@www.stockyardstc.com
SUMMARY:Burger & Beer Night
DESCRIPTION:Enjoy a Tavern Cheeseburger made your way\, fries or tots\, and a crisp\, cold draft beer\, all for $15!
URL:https://www.stockyardstc.com/event-calendar/monday-burger-beer-night/2029-07-23/
END:VEVENT
BEGIN:VEVENT
DTSTART;TZID=America/Chicago:20290730T160000
DTEND;TZID=America/Chicago:20290730T200000
DTSTAMP:20260422T075710
CREATED:20260205T155649Z
LAST-MODIFIED:20260205T155651Z
UID:10003034-1880121600-1880136000@www.stockyardstc.com
SUMMARY:Burger & Beer Night
DESCRIPTION:Enjoy a Tavern Cheeseburger made your way\, fries or tots\, and a crisp\, cold draft beer\, all for $15!
URL:https://www.stockyardstc.com/event-calendar/monday-burger-beer-night/2029-07-30/
END:VEVENT
BEGIN:VEVENT
DTSTART;TZID=America/Chicago:20290806T160000
DTEND;TZID=America/Chicago:20290806T200000
DTSTAMP:20260422T075710
CREATED:20260205T155649Z
LAST-MODIFIED:20260205T155651Z
UID:10003035-1880726400-1880740800@www.stockyardstc.com
SUMMARY:Burger & Beer Night
DESCRIPTION:Enjoy a Tavern Cheeseburger made your way\, fries or tots\, and a crisp\, cold draft beer\, all for $15!
URL:https://www.stockyardstc.com/event-calendar/monday-burger-beer-night/2029-08-06/
END:VEVENT
BEGIN:VEVENT
DTSTART;TZID=America/Chicago:20290813T160000
DTEND;TZID=America/Chicago:20290813T200000
DTSTAMP:20260422T075710
CREATED:20260205T155649Z
LAST-MODIFIED:20260205T155651Z
UID:10003036-1881331200-1881345600@www.stockyardstc.com
SUMMARY:Burger & Beer Night
DESCRIPTION:Enjoy a Tavern Cheeseburger made your way\, fries or tots\, and a crisp\, cold draft beer\, all for $15!
URL:https://www.stockyardstc.com/event-calendar/monday-burger-beer-night/2029-08-13/
END:VEVENT
BEGIN:VEVENT
DTSTART;TZID=America/Chicago:20290820T160000
DTEND;TZID=America/Chicago:20290820T200000
DTSTAMP:20260422T075710
CREATED:20260205T155649Z
LAST-MODIFIED:20260205T155651Z
UID:10003037-1881936000-1881950400@www.stockyardstc.com
SUMMARY:Burger & Beer Night
DESCRIPTION:Enjoy a Tavern Cheeseburger made your way\, fries or tots\, and a crisp\, cold draft beer\, all for $15!
URL:https://www.stockyardstc.com/event-calendar/monday-burger-beer-night/2029-08-20/
END:VEVENT
BEGIN:VEVENT
DTSTART;TZID=America/Chicago:20290827T160000
DTEND;TZID=America/Chicago:20290827T200000
DTSTAMP:20260422T075710
CREATED:20260205T155649Z
LAST-MODIFIED:20260205T155651Z
UID:10003038-1882540800-1882555200@www.stockyardstc.com
SUMMARY:Burger & Beer Night
DESCRIPTION:Enjoy a Tavern Cheeseburger made your way\, fries or tots\, and a crisp\, cold draft beer\, all for $15!
URL:https://www.stockyardstc.com/event-calendar/monday-burger-beer-night/2029-08-27/
END:VEVENT
BEGIN:VEVENT
DTSTART;TZID=America/Chicago:20290903T160000
DTEND;TZID=America/Chicago:20290903T200000
DTSTAMP:20260422T075710
CREATED:20260205T155649Z
LAST-MODIFIED:20260205T155651Z
UID:10003039-1883145600-1883160000@www.stockyardstc.com
SUMMARY:Burger & Beer Night
DESCRIPTION:Enjoy a Tavern Cheeseburger made your way\, fries or tots\, and a crisp\, cold draft beer\, all for $15!
URL:https://www.stockyardstc.com/event-calendar/monday-burger-beer-night/2029-09-03/
END:VEVENT
BEGIN:VEVENT
DTSTART;TZID=America/Chicago:20290910T160000
DTEND;TZID=America/Chicago:20290910T200000
DTSTAMP:20260422T075710
CREATED:20260205T155649Z
LAST-MODIFIED:20260205T155651Z
UID:10003040-1883750400-1883764800@www.stockyardstc.com
SUMMARY:Burger & Beer Night
DESCRIPTION:Enjoy a Tavern Cheeseburger made your way\, fries or tots\, and a crisp\, cold draft beer\, all for $15!
URL:https://www.stockyardstc.com/event-calendar/monday-burger-beer-night/2029-09-10/
END:VEVENT
BEGIN:VEVENT
DTSTART;TZID=America/Chicago:20290917T160000
DTEND;TZID=America/Chicago:20290917T200000
DTSTAMP:20260422T075710
CREATED:20260205T155649Z
LAST-MODIFIED:20260205T155651Z
UID:10003041-1884355200-1884369600@www.stockyardstc.com
SUMMARY:Burger & Beer Night
DESCRIPTION:Enjoy a Tavern Cheeseburger made your way\, fries or tots\, and a crisp\, cold draft beer\, all for $15!
URL:https://www.stockyardstc.com/event-calendar/monday-burger-beer-night/2029-09-17/
END:VEVENT
BEGIN:VEVENT
DTSTART;TZID=America/Chicago:20290924T160000
DTEND;TZID=America/Chicago:20290924T200000
DTSTAMP:20260422T075710
CREATED:20260205T155649Z
LAST-MODIFIED:20260205T155651Z
UID:10003042-1884960000-1884974400@www.stockyardstc.com
SUMMARY:Burger & Beer Night
DESCRIPTION:Enjoy a Tavern Cheeseburger made your way\, fries or tots\, and a crisp\, cold draft beer\, all for $15!
URL:https://www.stockyardstc.com/event-calendar/monday-burger-beer-night/2029-09-24/
END:VEVENT
END:VCALENDAR