BEGIN:VCALENDAR
VERSION:2.0
PRODID:-//American, Patio &amp; Bar Restaurant St Paul - ECPv6.15.18//NONSGML v1.0//EN
CALSCALE:GREGORIAN
METHOD:PUBLISH
X-WR-CALNAME:American, Patio &amp; Bar Restaurant St Paul
X-ORIGINAL-URL:https://www.stockyardstc.com
X-WR-CALDESC:Events for American, Patio &amp; Bar Restaurant St Paul
REFRESH-INTERVAL;VALUE=DURATION:PT1H
X-Robots-Tag:noindex
X-PUBLISHED-TTL:PT1H
BEGIN:VTIMEZONE
TZID:America/Chicago
BEGIN:DAYLIGHT
TZOFFSETFROM:-0600
TZOFFSETTO:-0500
TZNAME:CDT
DTSTART:20270314T080000
END:DAYLIGHT
BEGIN:STANDARD
TZOFFSETFROM:-0500
TZOFFSETTO:-0600
TZNAME:CST
DTSTART:20271107T070000
END:STANDARD
BEGIN:DAYLIGHT
TZOFFSETFROM:-0600
TZOFFSETTO:-0500
TZNAME:CDT
DTSTART:20280312T080000
END:DAYLIGHT
BEGIN:STANDARD
TZOFFSETFROM:-0500
TZOFFSETTO:-0600
TZNAME:CST
DTSTART:20281105T070000
END:STANDARD
BEGIN:DAYLIGHT
TZOFFSETFROM:-0600
TZOFFSETTO:-0500
TZNAME:CDT
DTSTART:20290311T080000
END:DAYLIGHT
BEGIN:STANDARD
TZOFFSETFROM:-0500
TZOFFSETTO:-0600
TZNAME:CST
DTSTART:20291104T070000
END:STANDARD
END:VTIMEZONE
BEGIN:VEVENT
DTSTART;TZID=America/Chicago:20280103T160000
DTEND;TZID=America/Chicago:20280103T200000
DTSTAMP:20260421T142545
CREATED:20260205T155649Z
LAST-MODIFIED:20260205T155651Z
UID:10002952-1830528000-1830542400@www.stockyardstc.com
SUMMARY:Burger & Beer Night
DESCRIPTION:Enjoy a Tavern Cheeseburger made your way\, fries or tots\, and a crisp\, cold draft beer\, all for $15!
URL:https://www.stockyardstc.com/event-calendar/monday-burger-beer-night/2028-01-03/
END:VEVENT
BEGIN:VEVENT
DTSTART;TZID=America/Chicago:20280110T160000
DTEND;TZID=America/Chicago:20280110T200000
DTSTAMP:20260421T142545
CREATED:20260205T155649Z
LAST-MODIFIED:20260205T155651Z
UID:10002953-1831132800-1831147200@www.stockyardstc.com
SUMMARY:Burger & Beer Night
DESCRIPTION:Enjoy a Tavern Cheeseburger made your way\, fries or tots\, and a crisp\, cold draft beer\, all for $15!
URL:https://www.stockyardstc.com/event-calendar/monday-burger-beer-night/2028-01-10/
END:VEVENT
BEGIN:VEVENT
DTSTART;TZID=America/Chicago:20280117T160000
DTEND;TZID=America/Chicago:20280117T200000
DTSTAMP:20260421T142545
CREATED:20260205T155649Z
LAST-MODIFIED:20260205T155651Z
UID:10002954-1831737600-1831752000@www.stockyardstc.com
SUMMARY:Burger & Beer Night
DESCRIPTION:Enjoy a Tavern Cheeseburger made your way\, fries or tots\, and a crisp\, cold draft beer\, all for $15!
URL:https://www.stockyardstc.com/event-calendar/monday-burger-beer-night/2028-01-17/
END:VEVENT
BEGIN:VEVENT
DTSTART;TZID=America/Chicago:20280124T160000
DTEND;TZID=America/Chicago:20280124T200000
DTSTAMP:20260421T142545
CREATED:20260205T155649Z
LAST-MODIFIED:20260205T155651Z
UID:10002955-1832342400-1832356800@www.stockyardstc.com
SUMMARY:Burger & Beer Night
DESCRIPTION:Enjoy a Tavern Cheeseburger made your way\, fries or tots\, and a crisp\, cold draft beer\, all for $15!
URL:https://www.stockyardstc.com/event-calendar/monday-burger-beer-night/2028-01-24/
END:VEVENT
BEGIN:VEVENT
DTSTART;TZID=America/Chicago:20280131T160000
DTEND;TZID=America/Chicago:20280131T200000
DTSTAMP:20260421T142545
CREATED:20260205T155649Z
LAST-MODIFIED:20260205T155651Z
UID:10002956-1832947200-1832961600@www.stockyardstc.com
SUMMARY:Burger & Beer Night
DESCRIPTION:Enjoy a Tavern Cheeseburger made your way\, fries or tots\, and a crisp\, cold draft beer\, all for $15!
URL:https://www.stockyardstc.com/event-calendar/monday-burger-beer-night/2028-01-31/
END:VEVENT
BEGIN:VEVENT
DTSTART;TZID=America/Chicago:20280207T160000
DTEND;TZID=America/Chicago:20280207T200000
DTSTAMP:20260421T142545
CREATED:20260205T155649Z
LAST-MODIFIED:20260205T155651Z
UID:10002957-1833552000-1833566400@www.stockyardstc.com
SUMMARY:Burger & Beer Night
DESCRIPTION:Enjoy a Tavern Cheeseburger made your way\, fries or tots\, and a crisp\, cold draft beer\, all for $15!
URL:https://www.stockyardstc.com/event-calendar/monday-burger-beer-night/2028-02-07/
END:VEVENT
BEGIN:VEVENT
DTSTART;TZID=America/Chicago:20280214T160000
DTEND;TZID=America/Chicago:20280214T200000
DTSTAMP:20260421T142545
CREATED:20260205T155649Z
LAST-MODIFIED:20260205T155651Z
UID:10002958-1834156800-1834171200@www.stockyardstc.com
SUMMARY:Burger & Beer Night
DESCRIPTION:Enjoy a Tavern Cheeseburger made your way\, fries or tots\, and a crisp\, cold draft beer\, all for $15!
URL:https://www.stockyardstc.com/event-calendar/monday-burger-beer-night/2028-02-14/
END:VEVENT
BEGIN:VEVENT
DTSTART;TZID=America/Chicago:20280221T160000
DTEND;TZID=America/Chicago:20280221T200000
DTSTAMP:20260421T142545
CREATED:20260205T155649Z
LAST-MODIFIED:20260205T155651Z
UID:10002959-1834761600-1834776000@www.stockyardstc.com
SUMMARY:Burger & Beer Night
DESCRIPTION:Enjoy a Tavern Cheeseburger made your way\, fries or tots\, and a crisp\, cold draft beer\, all for $15!
URL:https://www.stockyardstc.com/event-calendar/monday-burger-beer-night/2028-02-21/
END:VEVENT
BEGIN:VEVENT
DTSTART;TZID=America/Chicago:20280228T160000
DTEND;TZID=America/Chicago:20280228T200000
DTSTAMP:20260421T142545
CREATED:20260205T155649Z
LAST-MODIFIED:20260205T155651Z
UID:10002960-1835366400-1835380800@www.stockyardstc.com
SUMMARY:Burger & Beer Night
DESCRIPTION:Enjoy a Tavern Cheeseburger made your way\, fries or tots\, and a crisp\, cold draft beer\, all for $15!
URL:https://www.stockyardstc.com/event-calendar/monday-burger-beer-night/2028-02-28/
END:VEVENT
BEGIN:VEVENT
DTSTART;TZID=America/Chicago:20280306T160000
DTEND;TZID=America/Chicago:20280306T200000
DTSTAMP:20260421T142545
CREATED:20260205T155649Z
LAST-MODIFIED:20260205T155651Z
UID:10002961-1835971200-1835985600@www.stockyardstc.com
SUMMARY:Burger & Beer Night
DESCRIPTION:Enjoy a Tavern Cheeseburger made your way\, fries or tots\, and a crisp\, cold draft beer\, all for $15!
URL:https://www.stockyardstc.com/event-calendar/monday-burger-beer-night/2028-03-06/
END:VEVENT
BEGIN:VEVENT
DTSTART;TZID=America/Chicago:20280313T160000
DTEND;TZID=America/Chicago:20280313T200000
DTSTAMP:20260421T142545
CREATED:20260205T155649Z
LAST-MODIFIED:20260205T155651Z
UID:10002962-1836576000-1836590400@www.stockyardstc.com
SUMMARY:Burger & Beer Night
DESCRIPTION:Enjoy a Tavern Cheeseburger made your way\, fries or tots\, and a crisp\, cold draft beer\, all for $15!
URL:https://www.stockyardstc.com/event-calendar/monday-burger-beer-night/2028-03-13/
END:VEVENT
BEGIN:VEVENT
DTSTART;TZID=America/Chicago:20280320T160000
DTEND;TZID=America/Chicago:20280320T200000
DTSTAMP:20260421T142545
CREATED:20260205T155649Z
LAST-MODIFIED:20260205T155651Z
UID:10002963-1837180800-1837195200@www.stockyardstc.com
SUMMARY:Burger & Beer Night
DESCRIPTION:Enjoy a Tavern Cheeseburger made your way\, fries or tots\, and a crisp\, cold draft beer\, all for $15!
URL:https://www.stockyardstc.com/event-calendar/monday-burger-beer-night/2028-03-20/
END:VEVENT
BEGIN:VEVENT
DTSTART;TZID=America/Chicago:20280327T160000
DTEND;TZID=America/Chicago:20280327T200000
DTSTAMP:20260421T142545
CREATED:20260205T155649Z
LAST-MODIFIED:20260205T155651Z
UID:10002964-1837785600-1837800000@www.stockyardstc.com
SUMMARY:Burger & Beer Night
DESCRIPTION:Enjoy a Tavern Cheeseburger made your way\, fries or tots\, and a crisp\, cold draft beer\, all for $15!
URL:https://www.stockyardstc.com/event-calendar/monday-burger-beer-night/2028-03-27/
END:VEVENT
BEGIN:VEVENT
DTSTART;TZID=America/Chicago:20280403T160000
DTEND;TZID=America/Chicago:20280403T200000
DTSTAMP:20260421T142545
CREATED:20260205T155649Z
LAST-MODIFIED:20260205T155651Z
UID:10002965-1838390400-1838404800@www.stockyardstc.com
SUMMARY:Burger & Beer Night
DESCRIPTION:Enjoy a Tavern Cheeseburger made your way\, fries or tots\, and a crisp\, cold draft beer\, all for $15!
URL:https://www.stockyardstc.com/event-calendar/monday-burger-beer-night/2028-04-03/
END:VEVENT
BEGIN:VEVENT
DTSTART;TZID=America/Chicago:20280410T160000
DTEND;TZID=America/Chicago:20280410T200000
DTSTAMP:20260421T142545
CREATED:20260205T155649Z
LAST-MODIFIED:20260205T155651Z
UID:10002966-1838995200-1839009600@www.stockyardstc.com
SUMMARY:Burger & Beer Night
DESCRIPTION:Enjoy a Tavern Cheeseburger made your way\, fries or tots\, and a crisp\, cold draft beer\, all for $15!
URL:https://www.stockyardstc.com/event-calendar/monday-burger-beer-night/2028-04-10/
END:VEVENT
BEGIN:VEVENT
DTSTART;TZID=America/Chicago:20280417T160000
DTEND;TZID=America/Chicago:20280417T200000
DTSTAMP:20260421T142545
CREATED:20260205T155649Z
LAST-MODIFIED:20260205T155651Z
UID:10002967-1839600000-1839614400@www.stockyardstc.com
SUMMARY:Burger & Beer Night
DESCRIPTION:Enjoy a Tavern Cheeseburger made your way\, fries or tots\, and a crisp\, cold draft beer\, all for $15!
URL:https://www.stockyardstc.com/event-calendar/monday-burger-beer-night/2028-04-17/
END:VEVENT
BEGIN:VEVENT
DTSTART;TZID=America/Chicago:20280424T160000
DTEND;TZID=America/Chicago:20280424T200000
DTSTAMP:20260421T142545
CREATED:20260205T155649Z
LAST-MODIFIED:20260205T155651Z
UID:10002968-1840204800-1840219200@www.stockyardstc.com
SUMMARY:Burger & Beer Night
DESCRIPTION:Enjoy a Tavern Cheeseburger made your way\, fries or tots\, and a crisp\, cold draft beer\, all for $15!
URL:https://www.stockyardstc.com/event-calendar/monday-burger-beer-night/2028-04-24/
END:VEVENT
BEGIN:VEVENT
DTSTART;TZID=America/Chicago:20280501T160000
DTEND;TZID=America/Chicago:20280501T200000
DTSTAMP:20260421T142545
CREATED:20260205T155649Z
LAST-MODIFIED:20260205T155651Z
UID:10002969-1840809600-1840824000@www.stockyardstc.com
SUMMARY:Burger & Beer Night
DESCRIPTION:Enjoy a Tavern Cheeseburger made your way\, fries or tots\, and a crisp\, cold draft beer\, all for $15!
URL:https://www.stockyardstc.com/event-calendar/monday-burger-beer-night/2028-05-01/
END:VEVENT
BEGIN:VEVENT
DTSTART;TZID=America/Chicago:20280508T160000
DTEND;TZID=America/Chicago:20280508T200000
DTSTAMP:20260421T142545
CREATED:20260205T155649Z
LAST-MODIFIED:20260205T155651Z
UID:10002970-1841414400-1841428800@www.stockyardstc.com
SUMMARY:Burger & Beer Night
DESCRIPTION:Enjoy a Tavern Cheeseburger made your way\, fries or tots\, and a crisp\, cold draft beer\, all for $15!
URL:https://www.stockyardstc.com/event-calendar/monday-burger-beer-night/2028-05-08/
END:VEVENT
BEGIN:VEVENT
DTSTART;TZID=America/Chicago:20280515T160000
DTEND;TZID=America/Chicago:20280515T200000
DTSTAMP:20260421T142545
CREATED:20260205T155649Z
LAST-MODIFIED:20260205T155651Z
UID:10002971-1842019200-1842033600@www.stockyardstc.com
SUMMARY:Burger & Beer Night
DESCRIPTION:Enjoy a Tavern Cheeseburger made your way\, fries or tots\, and a crisp\, cold draft beer\, all for $15!
URL:https://www.stockyardstc.com/event-calendar/monday-burger-beer-night/2028-05-15/
END:VEVENT
BEGIN:VEVENT
DTSTART;TZID=America/Chicago:20280522T160000
DTEND;TZID=America/Chicago:20280522T200000
DTSTAMP:20260421T142545
CREATED:20260205T155649Z
LAST-MODIFIED:20260205T155651Z
UID:10002972-1842624000-1842638400@www.stockyardstc.com
SUMMARY:Burger & Beer Night
DESCRIPTION:Enjoy a Tavern Cheeseburger made your way\, fries or tots\, and a crisp\, cold draft beer\, all for $15!
URL:https://www.stockyardstc.com/event-calendar/monday-burger-beer-night/2028-05-22/
END:VEVENT
BEGIN:VEVENT
DTSTART;TZID=America/Chicago:20280529T160000
DTEND;TZID=America/Chicago:20280529T200000
DTSTAMP:20260421T142545
CREATED:20260205T155649Z
LAST-MODIFIED:20260205T155651Z
UID:10002973-1843228800-1843243200@www.stockyardstc.com
SUMMARY:Burger & Beer Night
DESCRIPTION:Enjoy a Tavern Cheeseburger made your way\, fries or tots\, and a crisp\, cold draft beer\, all for $15!
URL:https://www.stockyardstc.com/event-calendar/monday-burger-beer-night/2028-05-29/
END:VEVENT
BEGIN:VEVENT
DTSTART;TZID=America/Chicago:20280605T160000
DTEND;TZID=America/Chicago:20280605T200000
DTSTAMP:20260421T142545
CREATED:20260205T155649Z
LAST-MODIFIED:20260205T155651Z
UID:10002974-1843833600-1843848000@www.stockyardstc.com
SUMMARY:Burger & Beer Night
DESCRIPTION:Enjoy a Tavern Cheeseburger made your way\, fries or tots\, and a crisp\, cold draft beer\, all for $15!
URL:https://www.stockyardstc.com/event-calendar/monday-burger-beer-night/2028-06-05/
END:VEVENT
BEGIN:VEVENT
DTSTART;TZID=America/Chicago:20280612T160000
DTEND;TZID=America/Chicago:20280612T200000
DTSTAMP:20260421T142545
CREATED:20260205T155649Z
LAST-MODIFIED:20260205T155651Z
UID:10002975-1844438400-1844452800@www.stockyardstc.com
SUMMARY:Burger & Beer Night
DESCRIPTION:Enjoy a Tavern Cheeseburger made your way\, fries or tots\, and a crisp\, cold draft beer\, all for $15!
URL:https://www.stockyardstc.com/event-calendar/monday-burger-beer-night/2028-06-12/
END:VEVENT
BEGIN:VEVENT
DTSTART;TZID=America/Chicago:20280619T160000
DTEND;TZID=America/Chicago:20280619T200000
DTSTAMP:20260421T142545
CREATED:20260205T155649Z
LAST-MODIFIED:20260205T155651Z
UID:10002976-1845043200-1845057600@www.stockyardstc.com
SUMMARY:Burger & Beer Night
DESCRIPTION:Enjoy a Tavern Cheeseburger made your way\, fries or tots\, and a crisp\, cold draft beer\, all for $15!
URL:https://www.stockyardstc.com/event-calendar/monday-burger-beer-night/2028-06-19/
END:VEVENT
BEGIN:VEVENT
DTSTART;TZID=America/Chicago:20280626T160000
DTEND;TZID=America/Chicago:20280626T200000
DTSTAMP:20260421T142545
CREATED:20260205T155649Z
LAST-MODIFIED:20260205T155651Z
UID:10002977-1845648000-1845662400@www.stockyardstc.com
SUMMARY:Burger & Beer Night
DESCRIPTION:Enjoy a Tavern Cheeseburger made your way\, fries or tots\, and a crisp\, cold draft beer\, all for $15!
URL:https://www.stockyardstc.com/event-calendar/monday-burger-beer-night/2028-06-26/
END:VEVENT
BEGIN:VEVENT
DTSTART;TZID=America/Chicago:20280703T160000
DTEND;TZID=America/Chicago:20280703T200000
DTSTAMP:20260421T142545
CREATED:20260205T155649Z
LAST-MODIFIED:20260205T155651Z
UID:10002978-1846252800-1846267200@www.stockyardstc.com
SUMMARY:Burger & Beer Night
DESCRIPTION:Enjoy a Tavern Cheeseburger made your way\, fries or tots\, and a crisp\, cold draft beer\, all for $15!
URL:https://www.stockyardstc.com/event-calendar/monday-burger-beer-night/2028-07-03/
END:VEVENT
BEGIN:VEVENT
DTSTART;TZID=America/Chicago:20280710T160000
DTEND;TZID=America/Chicago:20280710T200000
DTSTAMP:20260421T142545
CREATED:20260205T155649Z
LAST-MODIFIED:20260205T155651Z
UID:10002979-1846857600-1846872000@www.stockyardstc.com
SUMMARY:Burger & Beer Night
DESCRIPTION:Enjoy a Tavern Cheeseburger made your way\, fries or tots\, and a crisp\, cold draft beer\, all for $15!
URL:https://www.stockyardstc.com/event-calendar/monday-burger-beer-night/2028-07-10/
END:VEVENT
BEGIN:VEVENT
DTSTART;TZID=America/Chicago:20280717T160000
DTEND;TZID=America/Chicago:20280717T200000
DTSTAMP:20260421T142545
CREATED:20260205T155649Z
LAST-MODIFIED:20260205T155651Z
UID:10002980-1847462400-1847476800@www.stockyardstc.com
SUMMARY:Burger & Beer Night
DESCRIPTION:Enjoy a Tavern Cheeseburger made your way\, fries or tots\, and a crisp\, cold draft beer\, all for $15!
URL:https://www.stockyardstc.com/event-calendar/monday-burger-beer-night/2028-07-17/
END:VEVENT
BEGIN:VEVENT
DTSTART;TZID=America/Chicago:20280724T160000
DTEND;TZID=America/Chicago:20280724T200000
DTSTAMP:20260421T142545
CREATED:20260205T155649Z
LAST-MODIFIED:20260205T155651Z
UID:10002981-1848067200-1848081600@www.stockyardstc.com
SUMMARY:Burger & Beer Night
DESCRIPTION:Enjoy a Tavern Cheeseburger made your way\, fries or tots\, and a crisp\, cold draft beer\, all for $15!
URL:https://www.stockyardstc.com/event-calendar/monday-burger-beer-night/2028-07-24/
END:VEVENT
END:VCALENDAR