BEGIN:VCALENDAR
VERSION:2.0
PRODID:-//American, Patio &amp; Bar Restaurant St Paul - ECPv6.15.18//NONSGML v1.0//EN
CALSCALE:GREGORIAN
METHOD:PUBLISH
X-WR-CALNAME:American, Patio &amp; Bar Restaurant St Paul
X-ORIGINAL-URL:https://www.stockyardstc.com
X-WR-CALDESC:Events for American, Patio &amp; Bar Restaurant St Paul
REFRESH-INTERVAL;VALUE=DURATION:PT1H
X-Robots-Tag:noindex
X-PUBLISHED-TTL:PT1H
BEGIN:VTIMEZONE
TZID:America/Chicago
BEGIN:DAYLIGHT
TZOFFSETFROM:-0600
TZOFFSETTO:-0500
TZNAME:CDT
DTSTART:20240310T080000
END:DAYLIGHT
BEGIN:STANDARD
TZOFFSETFROM:-0500
TZOFFSETTO:-0600
TZNAME:CST
DTSTART:20241103T070000
END:STANDARD
BEGIN:DAYLIGHT
TZOFFSETFROM:-0600
TZOFFSETTO:-0500
TZNAME:CDT
DTSTART:20250309T080000
END:DAYLIGHT
BEGIN:STANDARD
TZOFFSETFROM:-0500
TZOFFSETTO:-0600
TZNAME:CST
DTSTART:20251102T070000
END:STANDARD
BEGIN:DAYLIGHT
TZOFFSETFROM:-0600
TZOFFSETTO:-0500
TZNAME:CDT
DTSTART:20260308T080000
END:DAYLIGHT
BEGIN:STANDARD
TZOFFSETFROM:-0500
TZOFFSETTO:-0600
TZNAME:CST
DTSTART:20261101T070000
END:STANDARD
END:VTIMEZONE
BEGIN:VEVENT
DTSTART;TZID=America/Chicago:20251231T110000
DTEND;TZID=America/Chicago:20251231T210000
DTSTAMP:20260423T094630
CREATED:20251124T205257Z
LAST-MODIFIED:20251124T205259Z
UID:10002844-1767178800-1767214800@www.stockyardstc.com
SUMMARY:New Year's Eve
DESCRIPTION:End the year on a delicious note! Join us at Stockyards this New Year’s Eve for great food\, great drinks\, and a great night out. \n\n\n\n\nFeatures\n\n\n\nLimited Menu\n\n\n\nReservations
URL:https://www.stockyardstc.com/event-calendar/new-years-eve-2025/
END:VEVENT
END:VCALENDAR